BEGIN:VCALENDAR
VERSION:2.0
PRODID:icalendar-ruby
CALSCALE:GREGORIAN
METHOD:PUBLISH
BEGIN:VEVENT
DTSTAMP:20260420T014722Z
UID:923-1778163@morrisumc.org
DTSTART:20260915T140000Z
DTEND:20260915T160000Z
CLASS:PUBLIC
CREATED:20260419T181227
DESCRIPTION:Craft Day Tuesday
LAST-MODIFIED:20260419T181227
LOCATION:Wesley Center
SUMMARY:Craft Day Tuesday
URL;VALUE=URI:https://www.morrisumc.org/events/craft-day-tuesday/2026-09-15
END:VEVENT
END:VCALENDAR
