BEGIN:VCALENDAR
VERSION:2.0
PRODID:icalendar-ruby
CALSCALE:GREGORIAN
METHOD:PUBLISH
BEGIN:VEVENT
DTSTAMP:20260420T031912Z
UID:923-1779787@morrisumc.org
DTSTART:20260922T140000Z
DTEND:20260922T160000Z
CLASS:PUBLIC
CREATED:20260419T215120
DESCRIPTION:Craft Day Tuesday
LAST-MODIFIED:20260419T215120
LOCATION:Wesley Center
SUMMARY:Craft Day Tuesday
URL;VALUE=URI:https://www.morrisumc.org/events/craft-day-tuesday/2026-09-22
END:VEVENT
END:VCALENDAR
