BEGIN:VCALENDAR
VERSION:2.0
PRODID:icalendar-ruby
CALSCALE:GREGORIAN
METHOD:PUBLISH
BEGIN:VEVENT
DTSTAMP:20260420T045501Z
UID:923-1779788@morrisumc.org
DTSTART:20260929T140000Z
DTEND:20260929T160000Z
CLASS:PUBLIC
CREATED:20260419T215120
DESCRIPTION:Craft Day Tuesday
LAST-MODIFIED:20260419T215120
LOCATION:Wesley Center
SUMMARY:Craft Day Tuesday
URL;VALUE=URI:https://www.morrisumc.org/events/craft-day-tuesday/2026-09-29
END:VEVENT
END:VCALENDAR
