BEGIN:VCALENDAR
VERSION:2.0
PRODID:icalendar-ruby
CALSCALE:GREGORIAN
METHOD:PUBLISH
BEGIN:VEVENT
DTSTAMP:20260420T064022Z
UID:923-1781412@morrisumc.org
DTSTART:20261006T140000Z
DTEND:20261006T160000Z
CLASS:PUBLIC
CREATED:20260420T012812
DESCRIPTION:Craft Day Tuesday
LAST-MODIFIED:20260420T012812
LOCATION:Wesley Center
SUMMARY:Craft Day Tuesday
URL;VALUE=URI:https://www.morrisumc.org/events/craft-day-tuesday/2026-10-06
END:VEVENT
END:VCALENDAR
