BEGIN:VCALENDAR
VERSION:2.0
PRODID:icalendar-ruby
CALSCALE:GREGORIAN
METHOD:PUBLISH
BEGIN:VEVENT
DTSTAMP:20260422T104519Z
UID:923-1800890@morrisumc.org
DTSTART:20261020T140000Z
DTEND:20261020T160000Z
CLASS:PUBLIC
CREATED:20260421T193515
DESCRIPTION:Craft Day Tuesday
LAST-MODIFIED:20260421T193515
LOCATION:Wesley Center
SUMMARY:Craft Day Tuesday
URL;VALUE=URI:https://www.morrisumc.org/events/craft-day-tuesday/2026-10-20
END:VEVENT
END:VCALENDAR
