BEGIN:VCALENDAR
VERSION:2.0
PRODID:icalendar-ruby
CALSCALE:GREGORIAN
METHOD:PUBLISH
BEGIN:VEVENT
DTSTAMP:20260422T121338Z
UID:923-1802518@morrisumc.org
DTSTART:20261027T140000Z
DTEND:20261027T160000Z
CLASS:PUBLIC
CREATED:20260422T063743
DESCRIPTION:Craft Day Tuesday
LAST-MODIFIED:20260422T063743
LOCATION:Wesley Center
SUMMARY:Craft Day Tuesday
URL;VALUE=URI:https://www.morrisumc.org/events/craft-day-tuesday/2026-10-27
END:VEVENT
END:VCALENDAR
