BEGIN:VCALENDAR
VERSION:2.0
PRODID:icalendar-ruby
CALSCALE:GREGORIAN
METHOD:PUBLISH
BEGIN:VEVENT
DTSTAMP:20260422T152536Z
UID:923-1804147@morrisumc.org
DTSTART:20261110T150000Z
DTEND:20261110T170000Z
CLASS:PUBLIC
CREATED:20260422T093234
DESCRIPTION:Craft Day Tuesday
LAST-MODIFIED:20260422T093234
LOCATION:Wesley Center
SUMMARY:Craft Day Tuesday
URL;VALUE=URI:https://www.morrisumc.org/events/craft-day-tuesday/2026-11-10
END:VEVENT
END:VCALENDAR
