BEGIN:VCALENDAR
VERSION:2.0
PRODID:icalendar-ruby
CALSCALE:GREGORIAN
METHOD:PUBLISH
BEGIN:VEVENT
DTSTAMP:20260422T104233Z
UID:1237-1492905@morrisumc.org
DTSTART:20260428T140000Z
DTEND:20260428T203000Z
CLASS:PUBLIC
CREATED:20260319T132941
DESCRIPTION:
LAST-MODIFIED:20260319T132941
LOCATION:
SUMMARY:Quilt Guild
URL;VALUE=URI:https://www.morrisumc.org/events/quilt-guild--1237/2026-04-28
END:VEVENT
END:VCALENDAR
