BEGIN:VCALENDAR
VERSION:2.0
PRODID:icalendar-ruby
CALSCALE:GREGORIAN
METHOD:PUBLISH
BEGIN:VEVENT
DTSTAMP:20260421T091149Z
UID:892-1790986@morrisumc.org
DTSTART:20260716T220000Z
DTEND:20260717T020000Z
CLASS:PUBLIC
CREATED:20260420T192118
DESCRIPTION:
LAST-MODIFIED:20260420T192118
LOCATION:
SUMMARY:WC Rental
URL;VALUE=URI:https://www.morrisumc.org/events/wc-rental--892/2026-07-16
END:VEVENT
END:VCALENDAR
