BEGIN:VCALENDAR
VERSION:2.0
PRODID:icalendar-ruby
CALSCALE:GREGORIAN
METHOD:PUBLISH
BEGIN:VEVENT
DTSTAMP:20260421T121646Z
UID:892-1792611@morrisumc.org
DTSTART:20260730T220000Z
DTEND:20260731T020000Z
CLASS:PUBLIC
CREATED:20260421T062745
DESCRIPTION:
LAST-MODIFIED:20260421T062745
LOCATION:
SUMMARY:WC Rental
URL;VALUE=URI:https://www.morrisumc.org/events/wc-rental--892/2026-07-30
END:VEVENT
END:VCALENDAR
