BEGIN:VCALENDAR
VERSION:2.0
PRODID:icalendar-ruby
CALSCALE:GREGORIAN
METHOD:PUBLISH
BEGIN:VEVENT
DTSTAMP:20260421T152114Z
UID:892-1794236@morrisumc.org
DTSTART:20260813T220000Z
DTEND:20260814T020000Z
CLASS:PUBLIC
CREATED:20260421T090323
DESCRIPTION:
LAST-MODIFIED:20260421T090323
LOCATION:
SUMMARY:WC Rental
URL;VALUE=URI:https://www.morrisumc.org/events/wc-rental--892/2026-08-13
END:VEVENT
END:VCALENDAR
