BEGIN:VCALENDAR
VERSION:2.0
PRODID:icalendar-ruby
CALSCALE:GREGORIAN
METHOD:PUBLISH
BEGIN:VEVENT
DTSTAMP:20260421T183420Z
UID:892-1795861@morrisumc.org
DTSTART:20260827T220000Z
DTEND:20260828T020000Z
CLASS:PUBLIC
CREATED:20260421T114143
DESCRIPTION:
LAST-MODIFIED:20260421T114143
LOCATION:
SUMMARY:WC Rental
URL;VALUE=URI:https://www.morrisumc.org/events/wc-rental--892/2026-08-27
END:VEVENT
END:VCALENDAR
