BEGIN:VCALENDAR
VERSION:2.0
PRODID:icalendar-ruby
CALSCALE:GREGORIAN
METHOD:PUBLISH
BEGIN:VEVENT
DTSTAMP:20260421T201432Z
UID:892-1797485@morrisumc.org
DTSTART:20260903T220000Z
DTEND:20260904T020000Z
CLASS:PUBLIC
CREATED:20260421T141917
DESCRIPTION:
LAST-MODIFIED:20260421T141917
LOCATION:
SUMMARY:WC Rental
URL;VALUE=URI:https://www.morrisumc.org/events/wc-rental--892/2026-09-03
END:VEVENT
END:VCALENDAR
