BEGIN:VCALENDAR
VERSION:2.0
PRODID:icalendar-ruby
CALSCALE:GREGORIAN
METHOD:PUBLISH
BEGIN:VEVENT
DTSTAMP:20260421T220111Z
UID:892-1799109@morrisumc.org
DTSTART:20260910T220000Z
DTEND:20260911T020000Z
CLASS:PUBLIC
CREATED:20260421T165631
DESCRIPTION:
LAST-MODIFIED:20260421T165631
LOCATION:
SUMMARY:WC Rental
URL;VALUE=URI:https://www.morrisumc.org/events/wc-rental--892/2026-09-10
END:VEVENT
END:VCALENDAR
