BEGIN:VCALENDAR
VERSION:2.0
PRODID:icalendar-ruby
CALSCALE:GREGORIAN
METHOD:PUBLISH
BEGIN:VEVENT
DTSTAMP:20260422T022612Z
UID:892-1800735@morrisumc.org
DTSTART:20261001T220000Z
DTEND:20261002T020000Z
CLASS:PUBLIC
CREATED:20260421T193515
DESCRIPTION:
LAST-MODIFIED:20260421T193515
LOCATION:
SUMMARY:WC Rental
URL;VALUE=URI:https://www.morrisumc.org/events/wc-rental--892/2026-10-01
END:VEVENT
END:VCALENDAR
