BEGIN:VCALENDAR
VERSION:2.0
PRODID:icalendar-ruby
CALSCALE:GREGORIAN
METHOD:PUBLISH
BEGIN:VEVENT
DTSTAMP:20260424T085335Z
UID:892-1820275@morrisumc.org
DTSTART:20261015T220000Z
DTEND:20261016T020000Z
CLASS:PUBLIC
CREATED:20260423T211041
DESCRIPTION:
LAST-MODIFIED:20260423T211041
LOCATION:
SUMMARY:WC Rental
URL;VALUE=URI:https://www.morrisumc.org/events/wc-rental--892/2026-10-15
END:VEVENT
END:VCALENDAR
