BEGIN:VCALENDAR
VERSION:2.0
PRODID:icalendar-ruby
CALSCALE:GREGORIAN
METHOD:PUBLISH
BEGIN:VEVENT
DTSTAMP:20260422T095935Z
UID:892-1800740@morrisumc.org
DTSTART:20261105T230000Z
DTEND:20261106T030000Z
CLASS:PUBLIC
CREATED:20260421T193515
DESCRIPTION:
LAST-MODIFIED:20260421T193515
LOCATION:
SUMMARY:WC Rental
URL;VALUE=URI:https://www.morrisumc.org/events/wc-rental--892/2026-11-05
END:VEVENT
END:VCALENDAR
