BEGIN:VCALENDAR
VERSION:2.0
PRODID:icalendar-ruby
CALSCALE:GREGORIAN
METHOD:PUBLISH
BEGIN:VEVENT
DTSTAMP:20260420T002140Z
UID:922-1778130@morrisumc.org
DTSTART:20260914T230000Z
DTEND:20260915T003000Z
CLASS:PUBLIC
CREATED:20260419T181227
DESCRIPTION:
LAST-MODIFIED:20260419T181227
LOCATION:
SUMMARY:Women's Club-WC
URL;VALUE=URI:https://www.morrisumc.org/events/womens-club-wc--922/2026-09-
 14
END:VEVENT
END:VCALENDAR
