BEGIN:VCALENDAR
VERSION:2.0
PRODID:icalendar-ruby
CALSCALE:GREGORIAN
METHOD:PUBLISH
BEGIN:VEVENT
DTSTAMP:20260420T051601Z
UID:922-1779756@morrisumc.org
DTSTART:20261005T230000Z
DTEND:20261006T003000Z
CLASS:PUBLIC
CREATED:20260419T215120
DESCRIPTION:
LAST-MODIFIED:20260419T215120
LOCATION:
SUMMARY:Women's Club-WC
URL;VALUE=URI:https://www.morrisumc.org/events/womens-club-wc--922/2026-10-
 05
END:VEVENT
END:VCALENDAR
