BEGIN:VCALENDAR
VERSION:2.0
PRODID:icalendar-ruby
CALSCALE:GREGORIAN
METHOD:PUBLISH
BEGIN:VEVENT
DTSTAMP:20260420T065743Z
UID:922-1781380@morrisumc.org
DTSTART:20261012T230000Z
DTEND:20261013T003000Z
CLASS:PUBLIC
CREATED:20260420T012812
DESCRIPTION:
LAST-MODIFIED:20260420T012812
LOCATION:
SUMMARY:Women's Club-WC
URL;VALUE=URI:https://www.morrisumc.org/events/womens-club-wc--922/2026-10-
 12
END:VEVENT
END:VCALENDAR
