BEGIN:VCALENDAR
VERSION:2.0
PRODID:icalendar-ruby
CALSCALE:GREGORIAN
METHOD:PUBLISH
BEGIN:VEVENT
DTSTAMP:20260422T090543Z
UID:922-1800857@morrisumc.org
DTSTART:20261019T230000Z
DTEND:20261020T003000Z
CLASS:PUBLIC
CREATED:20260421T193515
DESCRIPTION:
LAST-MODIFIED:20260421T193515
LOCATION:
SUMMARY:Women's Club-WC
URL;VALUE=URI:https://www.morrisumc.org/events/womens-club-wc--922/2026-10-
 19
END:VEVENT
END:VCALENDAR
