BEGIN:VCALENDAR
VERSION:2.0
PRODID:icalendar-ruby
CALSCALE:GREGORIAN
METHOD:PUBLISH
BEGIN:VEVENT
DTSTAMP:20260422T114829Z
UID:922-1802486@morrisumc.org
DTSTART:20261103T000000Z
DTEND:20261103T013000Z
CLASS:PUBLIC
CREATED:20260422T063743
DESCRIPTION:
LAST-MODIFIED:20260422T063743
LOCATION:
SUMMARY:Women's Club-WC
URL;VALUE=URI:https://www.morrisumc.org/events/womens-club-wc--922/2026-11-
 02
END:VEVENT
END:VCALENDAR
